BEGIN:VCALENDAR
VERSION:2.0
PRODID:-//Plone.org//NONSGML plone.app.event//EN
X-WR-TIMEZONE:Europe/Rome
BEGIN:VEVENT
SUMMARY:Mercoledì 4 ottobre – ore 11.00 CONFERENZA STAMPA  Presentazion
 e della CLIA CRUISE WEEK EUROPE
DTSTART;TZID=Europe/Rome;VALUE=DATE-TIME:20231004T110000
DTSTAMP;VALUE=DATE-TIME:20260423T135218Z
UID:8741f47616ee473380bb7510bc092208@www.ge.camcom.gov.it
CATEGORIES:Eventi,Eventi HP
CREATED;VALUE=DATE-TIME:20231002T142114Z
LAST-MODIFIED;VALUE=DATE-TIME:20231004T130642Z
LOCATION:Genova - Palazzo Tobia Pallavicino
URL:https://www.ge.camcom.gov.it/it/elementi-homepage/events/mercoledi-4-o
 ttobre-2013-ore-11-00-conferenza-stampa-presentazione-della-clia-cruise-we
 ek-europe
END:VEVENT
BEGIN:VTIMEZONE
TZID:Europe/Rome
X-LIC-LOCATION:Europe/Rome
BEGIN:DAYLIGHT
DTSTART;VALUE=DATE-TIME:20230326T030000
TZNAME:CEST
TZOFFSETFROM:+0100
TZOFFSETTO:+0200
END:DAYLIGHT
END:VTIMEZONE
END:VCALENDAR
