BEGIN:VCALENDAR
VERSION:2.0
PRODID:-//Plone.org//NONSGML plone.app.event//EN
X-WR-TIMEZONE:Europe/Rome
BEGIN:VEVENT
SUMMARY:18 novembre - 4° webinar REACT/Orientamenti 2021: Autoimprenditor
 ialità e nuove Professioni Digitali
DTSTART;TZID=Europe/Rome;VALUE=DATE-TIME:20211118T100000
DTEND;TZID=Europe/Rome;VALUE=DATE-TIME:20211118T110000
DTSTAMP;VALUE=DATE-TIME:20260424T063142Z
UID:4037dad464444f3883d7e35bed6d4013@www.ge.camcom.gov.it
CATEGORIES:Eventi HP,Notizie lavoro e formazione,Eventi - promuovi
CREATED;VALUE=DATE-TIME:20211104T152828Z
DESCRIPTION:Dal 16 al 18 novembre torna a Genova il Salone Orientamenti\, 
 il grande appuntamento nazionale annuale sull’orientamento\, la formazio
 ne e il lavoro. Tantissimi gli appuntamenti. La Camera insieme al CLP orga
 nizza 4 webinar
LAST-MODIFIED;VALUE=DATE-TIME:20211104T155435Z
URL:https://www.ge.camcom.gov.it/it/gestisci/lavoro-e-formazione/notizie-e
 d-eventi-su-lavoro-e-formazione/18-novembre-4-webinar-react-orientamenti-2
 021-autoimprenditorialita-e-nuove-professioni-digitali
END:VEVENT
BEGIN:VTIMEZONE
TZID:Europe/Rome
X-LIC-LOCATION:Europe/Rome
BEGIN:STANDARD
DTSTART;VALUE=DATE-TIME:20211031T020000
TZNAME:CET
TZOFFSETFROM:+0200
TZOFFSETTO:+0100
END:STANDARD
END:VTIMEZONE
END:VCALENDAR
