BEGIN:VCALENDAR
VERSION:2.0
PRODID:-//Plone.org//NONSGML plone.app.event//EN
X-WR-TIMEZONE:Europe/Rome
BEGIN:VEVENT
SUMMARY:Dal 30 Settembre al 4 Ottobre 2024 Career day / Palazzo della Bors
 a
DTSTART;TZID=Europe/Rome;VALUE=DATE-TIME:20240930T093000
DTEND;TZID=Europe/Rome;VALUE=DATE-TIME:20241004T170000
DTSTAMP;VALUE=DATE-TIME:20260424T233638Z
UID:842bd41fe0a8476a829040e10a7f3825@www.ge.camcom.gov.it
CATEGORIES:Eventi,Eventi - la camera,Eventi HP,Notizie lavoro e formazione
CREATED;VALUE=DATE-TIME:20240913T090901Z
DESCRIPTION:La Camera di Commercio di Genova ospita anche quest’anno al 
 Palazzo della Borsa\, in Via XX Settembre 44\, il Career Day\,  la più 
 grande occasione gratuita di incontro tra domanda e offerta di lavoro in I
 talia.
LAST-MODIFIED;VALUE=DATE-TIME:20240925T081507Z
LOCATION:Genova\, Palazzo della Borsa
URL:https://www.ge.camcom.gov.it/it/gestisci/lavoro-e-formazione/notizie-e
 d-eventi-su-lavoro-e-formazione/dal-30-settembre-al-4-ottobre-2024-career-
 day
END:VEVENT
BEGIN:VTIMEZONE
TZID:Europe/Rome
X-LIC-LOCATION:Europe/Rome
BEGIN:DAYLIGHT
DTSTART;VALUE=DATE-TIME:20240331T030000
TZNAME:CEST
TZOFFSETFROM:+0100
TZOFFSETTO:+0200
END:DAYLIGHT
END:VTIMEZONE
END:VCALENDAR
