BEGIN:VCALENDAR
VERSION:2.0
PRODID:-//Plone.org//NONSGML plone.app.event//EN
X-WR-TIMEZONE:Europe/Rome
BEGIN:VEVENT
SUMMARY:26 settembre 2023 dalle 16 alle 18  Workshop "Efficientamento ener
 getico e diagnosi energetiche"
DTSTART;TZID=Europe/Rome;VALUE=DATE-TIME:20230926T160000
DTEND;TZID=Europe/Rome;VALUE=DATE-TIME:20230926T180000
DTSTAMP;VALUE=DATE-TIME:20260423T150307Z
UID:f9a48440f61044f786498f96c0949eb8@www.ge.camcom.gov.it
CATEGORIES:Eventi HP,Eventi e notizie EEN,Notizie slider HP
CONTACT:Paola Carbone - Raffaella Bruzzone
CREATED;VALUE=DATE-TIME:20230911T134401Z
DESCRIPTION:Terzo appuntamento dedicato alle micro\, piccole e medie impre
 se in tema di Transizione Ecologica
LAST-MODIFIED;VALUE=DATE-TIME:20231011T065614Z
LOCATION:Camera di Commercio di Genova - Salone del Bergamasco - Via Garib
 aldi\, 4
URL:https://www.ge.camcom.gov.it/it/promuovi/enterprise-europe-network-een
 -alps/eventi-e-notizie-een-alps-1/26-settembre-2023-dalle-16-alle-18-works
 hop-efficientamento-energetico-e-diagnosi-energetiche
END:VEVENT
BEGIN:VTIMEZONE
TZID:Europe/Rome
X-LIC-LOCATION:Europe/Rome
BEGIN:DAYLIGHT
DTSTART;VALUE=DATE-TIME:20230326T030000
TZNAME:CEST
TZOFFSETFROM:+0100
TZOFFSETTO:+0200
END:DAYLIGHT
END:VTIMEZONE
END:VCALENDAR
