BEGIN:VCALENDAR
VERSION:2.0
PRODID:-//Plone.org//NONSGML plone.app.event//EN
X-WR-TIMEZONE:Europe/Rome
BEGIN:VEVENT
SUMMARY:30 maggio 2022 - PITEM CLIP/Circuito - Evento conclusivo
DTSTART;TZID=Europe/Rome;VALUE=DATE-TIME:20220530T100000
DTEND;TZID=Europe/Rome;VALUE=DATE-TIME:20220530T160000
DTSTAMP;VALUE=DATE-TIME:20260420T193554Z
UID:a84a9f095aeb4f07bf7999b9be4c024c@www.ge.camcom.gov.it
CATEGORIES:Eventi,Eventi HP,Notizie EEN,Eventi - promuovi,Notizie progetti
  europei
CONTACT:Raffaella Bruzzone
CREATED;VALUE=DATE-TIME:20220524T173721Z
DESCRIPTION:Il Progetto CIRCUITO del PITEM CLIP\, finanziato nell'ambito d
 el Programma di Cooperazione Territoriale Europea INTERREG ALCOTRA\, giung
 e al termine delle sue attività. Per scoprire i risultati ottenuti e le p
 rospettive di sviluppo\, partecipa all'Evento finale del 30 maggio 2022
LAST-MODIFIED;VALUE=DATE-TIME:20220525T081559Z
LOCATION:Imperia\, Auditorium Camera di Commercio Riviere di Liguria
URL:https://www.ge.camcom.gov.it/it/promuovi/enterprise-europe-network-een
 -alps/eventi-e-notizie-een-alps-1/pitem-clip-circuito-evento-di-chiusura-3
 0-05-2022
END:VEVENT
BEGIN:VTIMEZONE
TZID:Europe/Rome
X-LIC-LOCATION:Europe/Rome
BEGIN:DAYLIGHT
DTSTART;VALUE=DATE-TIME:20220327T030000
TZNAME:CEST
TZOFFSETFROM:+0100
TZOFFSETTO:+0200
END:DAYLIGHT
END:VTIMEZONE
END:VCALENDAR
