BEGIN:VCALENDAR
VERSION:2.0
PRODID:-//Plone.org//NONSGML plone.app.event//EN
X-WR-TIMEZONE:Europe/Rome
BEGIN:VEVENT
SUMMARY:10 ottobre 2023 - Inbuyer marine (settore nautico e navale)
DTSTART;TZID=Europe/Rome;VALUE=DATE-TIME:20231010T093000
DTEND;TZID=Europe/Rome;VALUE=DATE-TIME:20231010T190000
DTSTAMP;VALUE=DATE-TIME:20260424T033445Z
UID:45bd66c2a0d0456ebb789ddf49900a16@www.ge.camcom.gov.it
CATEGORIES:Eventi internazionalizzazione - promuovi,Eventi,Eventi HP
CREATED;VALUE=DATE-TIME:20230629T085410Z
DESCRIPTION:InBuyer Marine è uno degli appuntamenti organizzati da Promos
  Italia per supportare le imprese del settore nautico e navale nel loro pr
 ocesso di internazionalizzazione
LAST-MODIFIED;VALUE=DATE-TIME:20230828T112243Z
LOCATION:Genova\, sede Camera di Commercio\, via Garibaldi 4
URL:https://www.ge.camcom.gov.it/it/promuovi/internazionalizzazione-1/part
 ecipa-1/eventi-e-notizie-1/10-ottobre-2023-inbuyer-marine-settore-nautico-
 e-navale
END:VEVENT
BEGIN:VTIMEZONE
TZID:Europe/Rome
X-LIC-LOCATION:Europe/Rome
BEGIN:DAYLIGHT
DTSTART;VALUE=DATE-TIME:20230326T030000
TZNAME:CEST
TZOFFSETFROM:+0100
TZOFFSETTO:+0200
END:DAYLIGHT
END:VTIMEZONE
END:VCALENDAR
