BEGIN:VCALENDAR
VERSION:2.0
PRODID:-//Plone.org//NONSGML plone.app.event//EN
X-WR-TIMEZONE:Europe/Rome
BEGIN:VEVENT
SUMMARY:20 ottobre 2021 - Webinar: nuove opportunità per le PMI dal Piano
  Nazionale di Ripresa e Resilienza (PNRR)
DTSTART;TZID=Europe/Rome;VALUE=DATE-TIME:20211020T150000
DTEND;TZID=Europe/Rome;VALUE=DATE-TIME:20211020T170000
DTSTAMP;VALUE=DATE-TIME:20260422T135643Z
UID:de164d6bac384fc2873dcef3b0f77475@www.ge.camcom.gov.it
CATEGORIES:Eventi internazionalizzazione - promuovi,Eventi HP,Eventi - ges
 tisci,Eventi - promuovi,Eventi PNRR,Eventi finanziamenti EU
CREATED;VALUE=DATE-TIME:20211015T120348Z
DESCRIPTION:Il sistema camerale ligure\, in collaborazione con Regione Lig
 uria\, presenta il PNRR\, Piano Nazionale di Ripresa e Resilienza
LAST-MODIFIED;VALUE=DATE-TIME:20220228T092250Z
URL:https://www.ge.camcom.gov.it/it/promuovi/internazionalizzazione-1/part
 ecipa-1/eventi-e-notizie-1/20-ottobre-2021-nuove-opportunita-per-le-pmi-da
 l-piano-nazionale-di-ripresa-e-resilienza-pnrr
END:VEVENT
BEGIN:VTIMEZONE
TZID:Europe/Rome
X-LIC-LOCATION:Europe/Rome
BEGIN:DAYLIGHT
DTSTART;VALUE=DATE-TIME:20210328T030000
TZNAME:CEST
TZOFFSETFROM:+0100
TZOFFSETTO:+0200
END:DAYLIGHT
END:VTIMEZONE
END:VCALENDAR
