BEGIN:VCALENDAR
VERSION:2.0
PRODID:-//Plone.org//NONSGML plone.app.event//EN
X-WR-TIMEZONE:Europe/Rome
BEGIN:VEVENT
SUMMARY:22 novembre 2023 - Incontri specialistici con esperti - Dual Use
DTSTART;TZID=Europe/Rome;VALUE=DATE-TIME:20231122T090000
DTSTAMP;VALUE=DATE-TIME:20260420T195011Z
UID:db5741317fba4897bcaeeeab3a6f4933@www.ge.camcom.gov.it
CATEGORIES:Eventi internazionalizzazione - promuovi,Eventi HP
CREATED;VALUE=DATE-TIME:20231023T094217Z
DESCRIPTION:Nell'ambito del Progetto SEI (Sostegno all'Export dell'Italia)
 \, continuano gli incontri con esperti organizzati dalla Camera di Commerc
 io di Genova in collaborazione con Promos Italia
LAST-MODIFIED;VALUE=DATE-TIME:20231023T101952Z
URL:https://www.ge.camcom.gov.it/it/promuovi/internazionalizzazione-1/part
 ecipa-1/eventi-e-notizie-1/22-novembre-2023-incontri-specialistici-con-esp
 erti-dual-use-1
END:VEVENT
BEGIN:VTIMEZONE
TZID:Europe/Rome
X-LIC-LOCATION:Europe/Rome
BEGIN:STANDARD
DTSTART;VALUE=DATE-TIME:20231029T020000
TZNAME:CET
TZOFFSETFROM:+0200
TZOFFSETTO:+0100
END:STANDARD
END:VTIMEZONE
END:VCALENDAR
