BEGIN:VCALENDAR
VERSION:2.0
PRODID:-//Plone.org//NONSGML plone.app.event//EN
X-WR-TIMEZONE:Europe/Rome
BEGIN:VEVENT
SUMMARY:18 febbraio 2021 - webinar: La gestione dei contatti commerciali n
 ell'era digitale
DTSTART;TZID=Europe/Rome;VALUE=DATE-TIME:20210218T100000
DTEND;TZID=Europe/Rome;VALUE=DATE-TIME:20210218T120000
DTSTAMP;VALUE=DATE-TIME:20260421T075716Z
UID:ccd0275ff8204d508f800033e724a30c@www.ge.camcom.gov.it
CATEGORIES:Eventi HP,Eventi
CREATED;VALUE=DATE-TIME:20210121T085035Z
DESCRIPTION:Webinar organizzato da Promos Italia nell’ambito dei servizi
  di supporto all'export digitale e di prima assistenza e orientamento alle
  PMI per l'internazionalizzazione
LAST-MODIFIED;VALUE=DATE-TIME:20210609T141308Z
URL:https://www.ge.camcom.gov.it/it/promuovi/internazionalizzazione-1/part
 ecipa-1/eventi-e-notizie-1/archivio-eventi-e-notizie-sullinternazionalizza
 zione/18-febbraio-2021-webinar-la-gestione-dei-contatti-commerciali-neller
 a-digitale
END:VEVENT
BEGIN:VTIMEZONE
TZID:Europe/Rome
X-LIC-LOCATION:Europe/Rome
BEGIN:STANDARD
DTSTART;VALUE=DATE-TIME:20201025T020000
TZNAME:CET
TZOFFSETFROM:+0200
TZOFFSETTO:+0100
END:STANDARD
END:VTIMEZONE
END:VCALENDAR
