BEGIN:VCALENDAR
VERSION:2.0
PRODID:-//Plone.org//NONSGML plone.app.event//EN
X-WR-TIMEZONE:Europe/Rome
BEGIN:VEVENT
SUMMARY:19 marzo 2021 - webinar: Lente di ingrandimento sugli Incoterms® 
 2020
DTSTART;TZID=Europe/Rome;VALUE=DATE-TIME:20210319T103000
DTEND;TZID=Europe/Rome;VALUE=DATE-TIME:20210319T120000
DTSTAMP;VALUE=DATE-TIME:20260425T212310Z
UID:87466505497843d48bbf48dddb3ad9ca@www.ge.camcom.gov.it
CATEGORIES:Eventi,Eventi HP,Eventi calendario HP
CREATED;VALUE=DATE-TIME:20210303T110914Z
DESCRIPTION:Webinar organizzato da Promos Italia nell’ambito dei servizi
  di supporto all'export digitale e di prima assistenza e orientamento alle
  PMI per l'internazionalizzazione
LAST-MODIFIED;VALUE=DATE-TIME:20210609T141308Z
URL:https://www.ge.camcom.gov.it/it/promuovi/internazionalizzazione-1/part
 ecipa-1/eventi-e-notizie-1/archivio-eventi-e-notizie-sullinternazionalizza
 zione/19-marzo-2021-webinar-lente-di-ingrandimento-sugli-incoterms-r-2020
END:VEVENT
BEGIN:VTIMEZONE
TZID:Europe/Rome
X-LIC-LOCATION:Europe/Rome
BEGIN:STANDARD
DTSTART;VALUE=DATE-TIME:20201025T020000
TZNAME:CET
TZOFFSETFROM:+0200
TZOFFSETTO:+0100
END:STANDARD
END:VTIMEZONE
END:VCALENDAR
