BEGIN:VCALENDAR
VERSION:2.0
PRODID:-//Plone.org//NONSGML plone.app.event//EN
X-WR-TIMEZONE:Europe/Rome
BEGIN:VEVENT
SUMMARY:23 marzo 2021 - webinar: Brexit: cosa è cambiato?
DTSTART;TZID=Europe/Rome;VALUE=DATE-TIME:20210323T103000
DTEND;TZID=Europe/Rome;VALUE=DATE-TIME:20210323T123000
DTSTAMP;VALUE=DATE-TIME:20260422T005159Z
UID:153014c13a9a4bbaae482b58db128616@www.ge.camcom.gov.it
CATEGORIES:Eventi internazionalizzazione - promuovi,Eventi HP
CREATED;VALUE=DATE-TIME:20210315T123846Z
DESCRIPTION:Le Camere di Commercio di Genova e Riviere di Liguria organizz
 ano un webinar con un taglio estremamente pratico sul tema della Brexit\, 
 che toccherà diverse tematiche.
LAST-MODIFIED;VALUE=DATE-TIME:20210609T141308Z
URL:https://www.ge.camcom.gov.it/it/promuovi/internazionalizzazione-1/part
 ecipa-1/eventi-e-notizie-1/archivio-eventi-e-notizie-sullinternazionalizza
 zione/23-marzo-2021-webinar-brexit-cosa-e-cambiato
END:VEVENT
BEGIN:VTIMEZONE
TZID:Europe/Rome
X-LIC-LOCATION:Europe/Rome
BEGIN:STANDARD
DTSTART;VALUE=DATE-TIME:20201025T020000
TZNAME:CET
TZOFFSETFROM:+0200
TZOFFSETTO:+0100
END:STANDARD
END:VTIMEZONE
END:VCALENDAR
