BEGIN:VCALENDAR
VERSION:2.0
PRODID:-//Plone.org//NONSGML plone.app.event//EN
X-WR-TIMEZONE:Europe/Rome
BEGIN:VEVENT
SUMMARY:9 aprile 2021 - Webinar: export e adempimenti in materia di privac
 y: come gestire una visita ispettiva in azienda
DTSTART;TZID=Europe/Rome;VALUE=DATE-TIME:20210409T100000
DTEND;TZID=Europe/Rome;VALUE=DATE-TIME:20210409T120000
DTSTAMP;VALUE=DATE-TIME:20260423T204028Z
UID:c4d61e4a96824ff7b60aa8bef9c9d906@www.ge.camcom.gov.it
CATEGORIES:Eventi,Eventi HP,Eventi - promuovi
CREATED;VALUE=DATE-TIME:20210329T114755Z
DESCRIPTION:Webinar organizzato da Promos Italia nell’ambito dei servizi
  di di prima assistenza e orientamento alle PMI per l'internazionalizzazio
 ne
LAST-MODIFIED;VALUE=DATE-TIME:20210609T141308Z
URL:https://www.ge.camcom.gov.it/it/promuovi/internazionalizzazione-1/part
 ecipa-1/eventi-e-notizie-1/archivio-eventi-e-notizie-sullinternazionalizza
 zione/9-aprile-2021-webinar-export-e-adempimenti-in-materia-di-privacy-com
 e-gestire-una-visita-ispettiva-in-azienda
END:VEVENT
BEGIN:VTIMEZONE
TZID:Europe/Rome
X-LIC-LOCATION:Europe/Rome
BEGIN:DAYLIGHT
DTSTART;VALUE=DATE-TIME:20210328T030000
TZNAME:CEST
TZOFFSETFROM:+0100
TZOFFSETTO:+0200
END:DAYLIGHT
END:VTIMEZONE
END:VCALENDAR
