BEGIN:VCALENDAR
VERSION:2.0
PRODID:-//Plone.org//NONSGML plone.app.event//EN
X-WR-TIMEZONE:Europe/Rome
BEGIN:VEVENT
SUMMARY:22 marzo 2023 - Carnet ATA\, webinar su novità operative
DTSTART;TZID=Europe/Rome;VALUE=DATE-TIME:20230322T100000
DTSTAMP;VALUE=DATE-TIME:20260423T150312Z
UID:893b48a6bdfe45e7a7037600f591674b@www.ge.camcom.gov.it
CATEGORIES:Eventi internazionalizzazione - promuovi,Eventi HP
CREATED;VALUE=DATE-TIME:20230315T094303Z
DESCRIPTION:La Camera di Commercio di Genova organizza un webinar sulle im
 portanti novità relative al Carnet ATA (documento per le esportazioni tem
 poranee)
LAST-MODIFIED;VALUE=DATE-TIME:20230317T131023Z
URL:https://www.ge.camcom.gov.it/it/promuovi/internazionalizzazione-1/part
 ecipa-1/eventi-e-notizie-1/copy_of_22-marzo-2023-carnet-ata-webinar-su-nov
 ita-operative
END:VEVENT
BEGIN:VTIMEZONE
TZID:Europe/Rome
X-LIC-LOCATION:Europe/Rome
BEGIN:STANDARD
DTSTART;VALUE=DATE-TIME:20221030T020000
TZNAME:CET
TZOFFSETFROM:+0200
TZOFFSETTO:+0100
END:STANDARD
END:VTIMEZONE
END:VCALENDAR
