BEGIN:VCALENDAR
VERSION:2.0
PRODID:-//Plone.org//NONSGML plone.app.event//EN
X-WR-TIMEZONE:Europe/Rome
BEGIN:VEVENT
SUMMARY:27 giugno ore 16 - America Latina: sfide attuali e prospettive eco
 nomiche
DTSTART;VALUE=DATE:20240627
DTEND;VALUE=DATE:20240628
DTSTAMP;VALUE=DATE-TIME:20260425T175547Z
UID:a8066da9b16149eeb632073a131edd12@www.ge.camcom.gov.it
CATEGORIES:Eventi HP,Economia Internazionale,Eventi
CREATED;VALUE=DATE-TIME:20240613T071156Z
DESCRIPTION:Presentazione dei risultati della Call for Papers sulle econom
 ie dei paesi del Sud America e pubblicati su Economia Internazionale/Inter
 national Economics
LAST-MODIFIED;VALUE=DATE-TIME:20240705T141425Z
LOCATION:Salone del Consiglio - Via Garibaldi\, 4 Genova
URL:https://www.ge.camcom.gov.it/it/promuovi/istituto-economia-internazion
 ale/27-giugno-ore-16-america-latina-sfide-attuali-e-prospettive-economiche
END:VEVENT
END:VCALENDAR
