BEGIN:VCALENDAR
VERSION:2.0
PRODID:-//Plone.org//NONSGML plone.app.event//EN
X-WR-TIMEZONE:Europe/Rome
BEGIN:VEVENT
SUMMARY:4 marzo - Economia tra realtà e illusioni. Conti pubblici\, cresc
 ita e scelte possibili in un mondo che cambia
DTSTART;TZID=Europe/Rome;VALUE=DATE-TIME:20260304T150000
DTEND;TZID=Europe/Rome;VALUE=DATE-TIME:20260304T190000
DTSTAMP;VALUE=DATE-TIME:20260425T185759Z
UID:140c560430c44ab09d546e396b2b82c2@www.ge.camcom.gov.it
CATEGORIES:Eventi,Eventi - promuovi,Eventi HP,Notizie internazionalizzazio
 ne - promuovi
CONTACT:https://www.iei1946.it/post/economia-tra-realta-e-illusioni-conti-
 pubblici-crescita-e-scelte-possibili-in-un-mondo-che-cambia
CREATED;VALUE=DATE-TIME:20260220T122258Z
DESCRIPTION:Presentazione del libro del Professor Cottarelli "Senza giri d
 i parole"
LAST-MODIFIED;VALUE=DATE-TIME:20260305T141250Z
URL:https://www.ge.camcom.gov.it/it/promuovi/istituto-economia-internazion
 ale/4-marzo-economia-tra-realta-e-illusioni-conti-pubblici-crescita-e-scel
 te-possibili-in-un-mondo-che-cambia
END:VEVENT
BEGIN:VTIMEZONE
TZID:Europe/Rome
X-LIC-LOCATION:Europe/Rome
BEGIN:STANDARD
DTSTART;VALUE=DATE-TIME:20251026T020000
TZNAME:CET
TZOFFSETFROM:+0200
TZOFFSETTO:+0100
END:STANDARD
END:VTIMEZONE
END:VCALENDAR
